BEGIN:VCALENDAR
VERSION:2.0
PRODID:-//Karen E. Olson - ECPv6.15.20//NONSGML v1.0//EN
CALSCALE:GREGORIAN
METHOD:PUBLISH
X-WR-CALNAME:Karen E. Olson
X-ORIGINAL-URL:https://kareneolson.com
X-WR-CALDESC:Events for Karen E. Olson
REFRESH-INTERVAL;VALUE=DURATION:PT1H
X-Robots-Tag:noindex
X-PUBLISHED-TTL:PT1H
BEGIN:VTIMEZONE
TZID:America/New_York
BEGIN:DAYLIGHT
TZOFFSETFROM:-0500
TZOFFSETTO:-0400
TZNAME:EDT
DTSTART:20220313T070000
END:DAYLIGHT
BEGIN:STANDARD
TZOFFSETFROM:-0400
TZOFFSETTO:-0500
TZNAME:EST
DTSTART:20221106T060000
END:STANDARD
BEGIN:DAYLIGHT
TZOFFSETFROM:-0500
TZOFFSETTO:-0400
TZNAME:EDT
DTSTART:20230312T070000
END:DAYLIGHT
BEGIN:STANDARD
TZOFFSETFROM:-0400
TZOFFSETTO:-0500
TZNAME:EST
DTSTART:20231105T060000
END:STANDARD
BEGIN:DAYLIGHT
TZOFFSETFROM:-0500
TZOFFSETTO:-0400
TZNAME:EDT
DTSTART:20240310T070000
END:DAYLIGHT
BEGIN:STANDARD
TZOFFSETFROM:-0400
TZOFFSETTO:-0500
TZNAME:EST
DTSTART:20241103T060000
END:STANDARD
END:VTIMEZONE
BEGIN:VEVENT
DTSTART;TZID=America/New_York:20231003T180000
DTEND;TZID=America/New_York:20231003T190000
DTSTAMP:20260423T071427
CREATED:20250221T185314Z
LAST-MODIFIED:20250221T185314Z
UID:1011-1696356000-1696359600@kareneolson.com
SUMMARY:What’s So Traditional About Murder? Panel with authors Ang Pompano and Christine Falcone\, moderated by Jill Fletcher
DESCRIPTION:
URL:https://kareneolson.com/event/whats-so-traditional-about-murder-panel-with-authors-ang-pompano-and-christine-falcone-moderated-by-jill-fletcher/
LOCATION:North Haven Memorial Library\, 17 Elm St.\, North Haven\, 06473\, United States
END:VEVENT
END:VCALENDAR