BEGIN:VCALENDAR
VERSION:2.0
PRODID:-//Karen E. Olson - ECPv6.15.20//NONSGML v1.0//EN
CALSCALE:GREGORIAN
METHOD:PUBLISH
X-WR-CALNAME:Karen E. Olson
X-ORIGINAL-URL:https://kareneolson.com
X-WR-CALDESC:Events for Karen E. Olson
REFRESH-INTERVAL;VALUE=DURATION:PT1H
X-Robots-Tag:noindex
X-PUBLISHED-TTL:PT1H
BEGIN:VTIMEZONE
TZID:America/New_York
BEGIN:DAYLIGHT
TZOFFSETFROM:-0500
TZOFFSETTO:-0400
TZNAME:EDT
DTSTART:20220313T070000
END:DAYLIGHT
BEGIN:STANDARD
TZOFFSETFROM:-0400
TZOFFSETTO:-0500
TZNAME:EST
DTSTART:20221106T060000
END:STANDARD
BEGIN:DAYLIGHT
TZOFFSETFROM:-0500
TZOFFSETTO:-0400
TZNAME:EDT
DTSTART:20230312T070000
END:DAYLIGHT
BEGIN:STANDARD
TZOFFSETFROM:-0400
TZOFFSETTO:-0500
TZNAME:EST
DTSTART:20231105T060000
END:STANDARD
BEGIN:DAYLIGHT
TZOFFSETFROM:-0500
TZOFFSETTO:-0400
TZNAME:EDT
DTSTART:20240310T070000
END:DAYLIGHT
BEGIN:STANDARD
TZOFFSETFROM:-0400
TZOFFSETTO:-0500
TZNAME:EST
DTSTART:20241103T060000
END:STANDARD
BEGIN:DAYLIGHT
TZOFFSETFROM:-0500
TZOFFSETTO:-0400
TZNAME:EDT
DTSTART:20250309T070000
END:DAYLIGHT
BEGIN:STANDARD
TZOFFSETFROM:-0400
TZOFFSETTO:-0500
TZNAME:EST
DTSTART:20251102T060000
END:STANDARD
BEGIN:DAYLIGHT
TZOFFSETFROM:-0500
TZOFFSETTO:-0400
TZNAME:EDT
DTSTART:20260308T070000
END:DAYLIGHT
BEGIN:STANDARD
TZOFFSETFROM:-0400
TZOFFSETTO:-0500
TZNAME:EST
DTSTART:20261101T060000
END:STANDARD
END:VTIMEZONE
BEGIN:VEVENT
DTSTART;TZID=America/New_York:20250412T140000
DTEND;TZID=America/New_York:20250412T160000
DTSTAMP:20260422T184803
CREATED:20250221T174151Z
LAST-MODIFIED:20250312T204639Z
UID:965-1744466400-1744473600@kareneolson.com
SUMMARY:Reversals\, Red Herrings and Twists with Katie Tietjen\, Valerie Taylor\, and Mary Karnes
DESCRIPTION:
URL:https://kareneolson.com/event/reversals-red-herrings-and-twists-with-katie-tietjen-deborah-levison-and-mary-karnes/
LOCATION:North Haven Library
END:VEVENT
BEGIN:VEVENT
DTSTART;TZID=America/New_York:20250124T120000
DTEND;TZID=America/New_York:20250124T130000
DTSTAMP:20260422T184803
CREATED:20250221T180637Z
LAST-MODIFIED:20250221T180637Z
UID:969-1737720000-1737723600@kareneolson.com
SUMMARY:AuthorSpeak
DESCRIPTION:
URL:https://kareneolson.com/event/authorspeak/
LOCATION:Norwalk Public Library
END:VEVENT
BEGIN:VEVENT
DTSTART;TZID=America/New_York:20240930T183000
DTEND;TZID=America/New_York:20240930T193000
DTSTAMP:20260422T184803
CREATED:20250221T182048Z
LAST-MODIFIED:20250221T182048Z
UID:980-1727721000-1727724600@kareneolson.com
SUMMARY:Manchester Public Library
DESCRIPTION:
URL:https://kareneolson.com/event/manchester-public-library/
LOCATION:Manchester Public Library
END:VEVENT
BEGIN:VEVENT
DTSTART;TZID=America/New_York:20240924T190000
DTEND;TZID=America/New_York:20240924T200000
DTSTAMP:20260422T184803
CREATED:20250221T184003Z
LAST-MODIFIED:20250221T184036Z
UID:985-1727204400-1727208000@kareneolson.com
SUMMARY:In conversation with Richard Osman
DESCRIPTION:
URL:https://kareneolson.com/event/in-conversation-with-richard-osman/
LOCATION:RJ Julia Booksellers\, 768 Boston Post Road\, Madison\, CT\, 06443\, United States
END:VEVENT
BEGIN:VEVENT
DTSTART;TZID=America/New_York:20240529T133000
DTEND;TZID=America/New_York:20240529T143000
DTSTAMP:20260422T184803
CREATED:20250221T184141Z
LAST-MODIFIED:20250221T184141Z
UID:988-1716989400-1716993000@kareneolson.com
SUMMARY:Main Book Club
DESCRIPTION:
URL:https://kareneolson.com/event/main-book-club/
LOCATION:Fairfield Public Library
END:VEVENT
BEGIN:VEVENT
DTSTART;TZID=America/New_York:20240429T183000
DTEND;TZID=America/New_York:20240429T193000
DTSTAMP:20260422T184803
CREATED:20250221T184307Z
LAST-MODIFIED:20250221T184307Z
UID:991-1714415400-1714419000@kareneolson.com
SUMMARY:In conversation with Sarah Stewart Taylor
DESCRIPTION:
URL:https://kareneolson.com/event/in-conversation-with-sarah-stewart-taylor/
LOCATION:Gibson’s Bookstore\, 45 S Main St\, Concord\, NH\, 03301\, United States
END:VEVENT
BEGIN:VEVENT
DTSTART;TZID=America/New_York:20240427T163000
DTEND;TZID=America/New_York:20240427T173000
DTSTAMP:20260422T184803
CREATED:20250221T184421Z
LAST-MODIFIED:20250221T184421Z
UID:994-1714235400-1714239000@kareneolson.com
SUMMARY:In conversation with Tessa Wegert
DESCRIPTION:
URL:https://kareneolson.com/event/in-conversation-with-tessa-wegert/
LOCATION:Barrett Bookstore
END:VEVENT
BEGIN:VEVENT
DTSTART;TZID=America/New_York:20240416T160000
DTEND;TZID=America/New_York:20240416T170000
DTSTAMP:20260422T184803
CREATED:20250221T184527Z
LAST-MODIFIED:20250221T184527Z
UID:997-1713283200-1713286800@kareneolson.com
SUMMARY:Poisoned Pen Bookstore
DESCRIPTION:
URL:https://kareneolson.com/event/poisoned-pen-bookstore/
LOCATION:Poisoned Pen Bookstore
END:VEVENT
BEGIN:VEVENT
DTSTART;TZID=America/New_York:20240410T183000
DTEND;TZID=America/New_York:20250220T193000
DTSTAMP:20260422T184803
CREATED:20250221T184636Z
LAST-MODIFIED:20250221T184853Z
UID:1000-1712773800-1740079800@kareneolson.com
SUMMARY:Reversals\, Red Herrings\, and Twists: Crime writers discuss how to keep the reader guessing Sisters in Crime CT panel with Christine Falcone\, Ang Pompano and Deborah Levison
DESCRIPTION:
URL:https://kareneolson.com/event/reversals-red-herrings-and-twists-crime-writers-discuss-how-to-keep-the-reader-guessing-sisters-in-crime-ct-panel-with-christine-falcone-ang-pompano-and-deborah-levison/
LOCATION:Blackstone Library
END:VEVENT
BEGIN:VEVENT
DTSTART;TZID=America/New_York:20240409T183000
DTEND;TZID=America/New_York:20240409T193000
DTSTAMP:20260422T184803
CREATED:20250221T184940Z
LAST-MODIFIED:20250221T184940Z
UID:1003-1712687400-1712691000@kareneolson.com
SUMMARY:RJ Julia Booksellers
DESCRIPTION:
URL:https://kareneolson.com/event/rj-julia-booksellers/
LOCATION:RJ Julia Booksellers\, 768 Boston Post Road\, Madison\, CT\, 06443\, United States
END:VEVENT
BEGIN:VEVENT
DTSTART;TZID=America/New_York:20240407T190000
DTEND;TZID=America/New_York:20240407T200000
DTSTAMP:20260422T184803
CREATED:20250221T185057Z
LAST-MODIFIED:20250221T185057Z
UID:1005-1712516400-1712520000@kareneolson.com
SUMMARY:The Back Room With Lisa Gardner\, Erin Adams and Carter Wilson
DESCRIPTION:
URL:https://kareneolson.com/event/the-back-room-with-lisa-gardner-erin-adams-and-carter-wilson/
LOCATION:The Back Room
END:VEVENT
BEGIN:VEVENT
DTSTART;TZID=America/New_York:20240402T180000
DTEND;TZID=America/New_York:20240402T190000
DTSTAMP:20260422T184803
CREATED:20250221T185211Z
LAST-MODIFIED:20250221T185211Z
UID:1008-1712080800-1712084400@kareneolson.com
SUMMARY:The Mysterious Bookshop
DESCRIPTION:
URL:https://kareneolson.com/event/the-mysterious-bookshop/
LOCATION:The Mysterious Bookshop\, 58 Warren St\, New York\, NY\, 10007\, United States
END:VEVENT
BEGIN:VEVENT
DTSTART;TZID=America/New_York:20231003T180000
DTEND;TZID=America/New_York:20231003T190000
DTSTAMP:20260422T184803
CREATED:20250221T185314Z
LAST-MODIFIED:20250221T185314Z
UID:1011-1696356000-1696359600@kareneolson.com
SUMMARY:What’s So Traditional About Murder? Panel with authors Ang Pompano and Christine Falcone\, moderated by Jill Fletcher
DESCRIPTION:
URL:https://kareneolson.com/event/whats-so-traditional-about-murder-panel-with-authors-ang-pompano-and-christine-falcone-moderated-by-jill-fletcher/
LOCATION:North Haven Memorial Library\, 17 Elm St.\, North Haven\, 06473\, United States
END:VEVENT
END:VCALENDAR