BEGIN:VCALENDAR
VERSION:2.0
PRODID:-//Karen E. Olson - ECPv6.15.20//NONSGML v1.0//EN
CALSCALE:GREGORIAN
METHOD:PUBLISH
X-WR-CALNAME:Karen E. Olson
X-ORIGINAL-URL:https://kareneolson.com
X-WR-CALDESC:Events for Karen E. Olson
REFRESH-INTERVAL;VALUE=DURATION:PT1H
X-Robots-Tag:noindex
X-PUBLISHED-TTL:PT1H
BEGIN:VTIMEZONE
TZID:America/New_York
BEGIN:DAYLIGHT
TZOFFSETFROM:-0500
TZOFFSETTO:-0400
TZNAME:EDT
DTSTART:20250309T070000
END:DAYLIGHT
BEGIN:STANDARD
TZOFFSETFROM:-0400
TZOFFSETTO:-0500
TZNAME:EST
DTSTART:20251102T060000
END:STANDARD
BEGIN:DAYLIGHT
TZOFFSETFROM:-0500
TZOFFSETTO:-0400
TZNAME:EDT
DTSTART:20260308T070000
END:DAYLIGHT
BEGIN:STANDARD
TZOFFSETFROM:-0400
TZOFFSETTO:-0500
TZNAME:EST
DTSTART:20261101T060000
END:STANDARD
BEGIN:DAYLIGHT
TZOFFSETFROM:-0500
TZOFFSETTO:-0400
TZNAME:EDT
DTSTART:20270314T070000
END:DAYLIGHT
BEGIN:STANDARD
TZOFFSETFROM:-0400
TZOFFSETTO:-0500
TZNAME:EST
DTSTART:20271107T060000
END:STANDARD
END:VTIMEZONE
BEGIN:VEVENT
DTSTART;TZID=America/New_York:20260321T130000
DTEND;TZID=America/New_York:20260321T160000
DTSTAMP:20260422T213337
CREATED:20260219T203929Z
LAST-MODIFIED:20260219T203929Z
UID:1229-1774098000-1774108800@kareneolson.com
SUMMARY:Barnes and Noble—North Haven signing
DESCRIPTION:
URL:https://kareneolson.com/event/barnes-and-noble-north-haven-signing/
LOCATION:Barnes and Noble\, 470 Universal Drive North\, North Haven\, CT\, 06473\, United States
END:VEVENT
BEGIN:VEVENT
DTSTART;TZID=America/New_York:20260402T190000
DTEND;TZID=America/New_York:20260402T200000
DTSTAMP:20260422T213337
CREATED:20260219T203454Z
LAST-MODIFIED:20260219T203454Z
UID:1226-1775156400-1775160000@kareneolson.com
SUMMARY:Darien Library in conversation with Joe Meyers
DESCRIPTION:
URL:https://kareneolson.com/event/darien-library-in-conversation-with-joe-meyers/
LOCATION:Darien Library\, 1441 Post Road\, Darien\, CT\, 06820\, United States
END:VEVENT
BEGIN:VEVENT
DTSTART;TZID=America/New_York:20260418T120000
DTEND;TZID=America/New_York:20260418T140000
DTSTAMP:20260422T213337
CREATED:20260330T203238Z
LAST-MODIFIED:20260330T203238Z
UID:1248-1776513600-1776520800@kareneolson.com
SUMMARY:Barnes & Noble—Cheshire signing
DESCRIPTION:
URL:https://kareneolson.com/event/barnes-noble-cheshire-signing/
LOCATION:Cheshire Barnes & Noble\, The Shops at Stone Bridge\, Cheshire\, 06410\, United States
END:VEVENT
BEGIN:VEVENT
DTSTART;TZID=America/New_York:20260422T140000
DTEND;TZID=America/New_York:20260422T150000
DTSTAMP:20260422T213337
CREATED:20260128T220745Z
LAST-MODIFIED:20260128T220745Z
UID:1222-1776866400-1776870000@kareneolson.com
SUMMARY:Avon Public Library
DESCRIPTION:
URL:https://kareneolson.com/event/avon-public-library/
LOCATION:Avon Free Public Library\, 281 Country Club Road\, Avon\, CT\, 06001\, United States
END:VEVENT
END:VCALENDAR