BEGIN:VCALENDAR
VERSION:2.0
PRODID:-//Karen E. Olson - ECPv6.15.20//NONSGML v1.0//EN
CALSCALE:GREGORIAN
METHOD:PUBLISH
X-WR-CALNAME:Karen E. Olson
X-ORIGINAL-URL:https://kareneolson.com
X-WR-CALDESC:Events for Karen E. Olson
REFRESH-INTERVAL;VALUE=DURATION:PT1H
X-Robots-Tag:noindex
X-PUBLISHED-TTL:PT1H
BEGIN:VTIMEZONE
TZID:America/New_York
BEGIN:DAYLIGHT
TZOFFSETFROM:-0500
TZOFFSETTO:-0400
TZNAME:EDT
DTSTART:20250309T070000
END:DAYLIGHT
BEGIN:STANDARD
TZOFFSETFROM:-0400
TZOFFSETTO:-0500
TZNAME:EST
DTSTART:20251102T060000
END:STANDARD
BEGIN:DAYLIGHT
TZOFFSETFROM:-0500
TZOFFSETTO:-0400
TZNAME:EDT
DTSTART:20260308T070000
END:DAYLIGHT
BEGIN:STANDARD
TZOFFSETFROM:-0400
TZOFFSETTO:-0500
TZNAME:EST
DTSTART:20261101T060000
END:STANDARD
BEGIN:DAYLIGHT
TZOFFSETFROM:-0500
TZOFFSETTO:-0400
TZNAME:EDT
DTSTART:20270314T070000
END:DAYLIGHT
BEGIN:STANDARD
TZOFFSETFROM:-0400
TZOFFSETTO:-0500
TZNAME:EST
DTSTART:20271107T060000
END:STANDARD
END:VTIMEZONE
BEGIN:VEVENT
DTSTART;TZID=America/New_York:20260310T183000
DTEND;TZID=America/New_York:20260310T193000
DTSTAMP:20260422T204249
CREATED:20260119T211929Z
LAST-MODIFIED:20260119T211929Z
UID:1213-1773167400-1773171000@kareneolson.com
SUMMARY:Gibson’s Bookstore in conversation with Sarah Stewart Taylor
DESCRIPTION:
URL:https://kareneolson.com/event/gibsons-bookstore-in-conversation-with-sarah-stewart-taylor/
LOCATION:Gibson’s Bookstore\, 45 S Main St\, Concord\, NH\, 03301\, United States
ATTACH;FMTTYPE=image/jpeg:https://kareneolson.com/wp-content/uploads/2026/01/gibsons.jpg
END:VEVENT
END:VCALENDAR